BEGIN:VCALENDAR
VERSION:2.0
PRODID:-//Grønbjerg - ECPv6.15.17//NONSGML v1.0//EN
CALSCALE:GREGORIAN
METHOD:PUBLISH
X-WR-CALNAME:Grønbjerg
X-ORIGINAL-URL:https://xn--grnbjerg-64a.dk
X-WR-CALDESC:Begivenheder for Grønbjerg
REFRESH-INTERVAL;VALUE=DURATION:PT1H
X-Robots-Tag:noindex
X-PUBLISHED-TTL:PT1H
BEGIN:VTIMEZONE
TZID:Europe/Copenhagen
BEGIN:DAYLIGHT
TZOFFSETFROM:+0100
TZOFFSETTO:+0200
TZNAME:CEST
DTSTART:20250330T010000
END:DAYLIGHT
BEGIN:STANDARD
TZOFFSETFROM:+0200
TZOFFSETTO:+0100
TZNAME:CET
DTSTART:20251026T010000
END:STANDARD
BEGIN:DAYLIGHT
TZOFFSETFROM:+0100
TZOFFSETTO:+0200
TZNAME:CEST
DTSTART:20260329T010000
END:DAYLIGHT
BEGIN:STANDARD
TZOFFSETFROM:+0200
TZOFFSETTO:+0100
TZNAME:CET
DTSTART:20261025T010000
END:STANDARD
BEGIN:DAYLIGHT
TZOFFSETFROM:+0100
TZOFFSETTO:+0200
TZNAME:CEST
DTSTART:20270328T010000
END:DAYLIGHT
BEGIN:STANDARD
TZOFFSETFROM:+0200
TZOFFSETTO:+0100
TZNAME:CET
DTSTART:20271031T010000
END:STANDARD
END:VTIMEZONE
BEGIN:VEVENT
DTSTART;TZID=Europe/Copenhagen:20260325T193000
DTEND;TZID=Europe/Copenhagen:20260325T220000
DTSTAMP:20260415T105655
CREATED:20260126T100021Z
LAST-MODIFIED:20260126T100021Z
UID:5352-1774467000-1774476000@xn--grnbjerg-64a.dk
SUMMARY:Kultur og Samvær- Grønbjerghjemmet – en del af lokalsamfundet.
DESCRIPTION:Julie og Heidi vil komme og fortælle om Grønbjerghjemmet\, som er et varigt botilbud inden for handicap og psykiatri i Ringkøbing-Skjern Kommune. De vil fortælle om deres arbejde som socialpædagoger på bostedet og give et indblik i\, hvordan dagligdagen i huset ser ud. Hvorfor er Grønbjerghjemmet unikt\, og hvorfor det er alfa og omega\, at det er placeret i hjertet af en lille by som Grønbjerg?
URL:https://xn--grnbjerg-64a.dk/event/kultur-og-samvaer-groenbjerghjemmet-en-del-af-lokalsamfundet/
LOCATION:Konfirmandstuen\, Frydendalsvej 2\, Grønbjerg\, 6971
END:VEVENT
BEGIN:VEVENT
DTSTART;VALUE=DATE:20260321
DTEND;VALUE=DATE:20260322
DTSTAMP:20260415T105655
CREATED:20260126T095318Z
LAST-MODIFIED:20260126T095318Z
UID:5349-1774051200-1774137599@xn--grnbjerg-64a.dk
SUMMARY:Badminton turnering og Gaffa fest
DESCRIPTION:
URL:https://xn--grnbjerg-64a.dk/event/badminton-turnering-og-gaffa-fest/
LOCATION:Grønbjerg Friskole\, Algade 56\, Grønbjerg\, 6971
END:VEVENT
BEGIN:VEVENT
DTSTART;TZID=Europe/Copenhagen:20260318T190000
DTEND;TZID=Europe/Copenhagen:20260318T220000
DTSTAMP:20260415T105655
CREATED:20260126T094413Z
LAST-MODIFIED:20260126T094413Z
UID:5332-1773860400-1773871200@xn--grnbjerg-64a.dk
SUMMARY:Strikke Cafe
DESCRIPTION:Kom og Strik og hyg
URL:https://xn--grnbjerg-64a.dk/event/strikke-cafe-3/
END:VEVENT
BEGIN:VEVENT
DTSTART;TZID=Europe/Copenhagen:20260314T100000
DTEND;TZID=Europe/Copenhagen:20260314T140000
DTSTAMP:20260415T105655
CREATED:20260126T095149Z
LAST-MODIFIED:20260126T095149Z
UID:5344-1773482400-1773496800@xn--grnbjerg-64a.dk
SUMMARY:Gymnastik opvisning i Grønbjerg
DESCRIPTION:
URL:https://xn--grnbjerg-64a.dk/event/gymnastik-opvisning-i-groenbjerg/
LOCATION:Grønbjerg Friskole\, Algade 56\, Grønbjerg\, 6971
END:VEVENT
BEGIN:VEVENT
DTSTART;TZID=Europe/Copenhagen:20260314T093000
DTEND;TZID=Europe/Copenhagen:20260314T150000
DTSTAMP:20260415T105655
CREATED:20260126T093746Z
LAST-MODIFIED:20260126T093746Z
UID:5319-1773480600-1773500400@xn--grnbjerg-64a.dk
SUMMARY:Højskoledag i Ørnhøj Kirkecenter
DESCRIPTION:
URL:https://xn--grnbjerg-64a.dk/event/hoejskoledag-i-oernhoej-kirkecenter/
LOCATION:Ørnhøj Kirkecenter\, Ørnhøj
END:VEVENT
BEGIN:VEVENT
DTSTART;TZID=Europe/Copenhagen:20260218T190000
DTEND;TZID=Europe/Copenhagen:20260218T220000
DTSTAMP:20260415T105655
CREATED:20260126T094249Z
LAST-MODIFIED:20260126T094249Z
UID:5330-1771441200-1771452000@xn--grnbjerg-64a.dk
SUMMARY:Strikke Cafe
DESCRIPTION:Kom og strik og hyg
URL:https://xn--grnbjerg-64a.dk/event/strikke-cafe-2/
LOCATION:Konfirmandstuen\, Frydendalsvej 2\, Grønbjerg\, 6971
END:VEVENT
BEGIN:VEVENT
DTSTART;TZID=Europe/Copenhagen:20260215T143000
DTEND;TZID=Europe/Copenhagen:20260215T170000
DTSTAMP:20260415T105655
CREATED:20260126T094852Z
LAST-MODIFIED:20260126T094852Z
UID:5340-1771165800-1771174800@xn--grnbjerg-64a.dk
SUMMARY:Fastelavn- Det er festen for børn i alle aldre
DESCRIPTION:
URL:https://xn--grnbjerg-64a.dk/event/fastelavn-det-er-festen-for-boern-i-alle-aldre/
LOCATION:Grønbjerg Friskole\, Algade 56\, Grønbjerg\, 6971
END:VEVENT
BEGIN:VEVENT
DTSTART;TZID=Europe/Copenhagen:20260204T180000
DTEND;TZID=Europe/Copenhagen:20260204T200000
DTSTAMP:20260415T105655
CREATED:20260126T113441Z
LAST-MODIFIED:20260126T113441Z
UID:5375-1770228000-1770235200@xn--grnbjerg-64a.dk
SUMMARY:Åben i Lokalhistorisk arkiv
DESCRIPTION:  \nLokalhistorisk arkiv er blevet mere tilgængeligt for alle. Fast åbningstid den første onsdag hver måned kl. 18-20. \nEt mere tilgængeligt arkiv \nFremadrettet vil vi gerne prøve at gøre Arkivet mere tilgængeligt for alle\, som eksempel kan nævnes fast åbningstid den første onsdag hver måned kl. 18.00 til 20.00 fra januar 2026. Man er selvfølgelig også altid velkommen til at kontakte bestyrelsen\, hvis man har spørgsmål\, vi kan være behjælpelige med. Skulle der sidde nogen derude i vores dejlige sogn\, som brænder for lokal historie måske er lidt skarpere på IT end os “gamle” eller bare lige har lyst til en tjans som frivillig så tøv ikke; men kontakt os. Det ville bare være skønt\, hvis det kunne have interesse.
URL:https://xn--grnbjerg-64a.dk/event/aaben-i-lokalhistorisk-arkiv/
LOCATION:Grønbjerg Friskole\, Algade 56\, Grønbjerg\, 6971
END:VEVENT
BEGIN:VEVENT
DTSTART;TZID=Europe/Copenhagen:20260130T180000
DTEND;TZID=Europe/Copenhagen:20260130T220000
DTSTAMP:20260415T105655
CREATED:20260126T092231Z
LAST-MODIFIED:20260126T092231Z
UID:5297-1769796000-1769810400@xn--grnbjerg-64a.dk
SUMMARY:Fælles spisning i Grønbjerg forsamlingshus
DESCRIPTION:
URL:https://xn--grnbjerg-64a.dk/event/faelles-spisning-i-groenbjerg-forsamlingshus/
LOCATION:Grønbjerg forsamlingshus\, Svinget 1\, Grønbjerg\, 6971
END:VEVENT
BEGIN:VEVENT
DTSTART;TZID=Europe/Copenhagen:20260128T190000
DTEND;TZID=Europe/Copenhagen:20260128T220000
DTSTAMP:20260415T105655
CREATED:20260126T092644Z
LAST-MODIFIED:20260126T093847Z
UID:5314-1769626800-1769637600@xn--grnbjerg-64a.dk
SUMMARY:Strikke Cafe
DESCRIPTION:Mødes kl: 19:00 i Konfirmandstuen på Frydendalsvej 2 \nNogle af deltagerne strikker engle og stjerner til kirkens juletræ.
URL:https://xn--grnbjerg-64a.dk/event/stikke-cafe/
LOCATION:Konfirmandstuen\, Frydendalsvej 2\, Grønbjerg\, 6971
END:VEVENT
END:VCALENDAR