BEGIN:VCALENDAR
VERSION:2.0
PRODID:-//Grønbjerg - ECPv6.15.17//NONSGML v1.0//EN
CALSCALE:GREGORIAN
METHOD:PUBLISH
X-ORIGINAL-URL:https://xn--grnbjerg-64a.dk
X-WR-CALDESC:Begivenheder for Grønbjerg
REFRESH-INTERVAL;VALUE=DURATION:PT1H
X-Robots-Tag:noindex
X-PUBLISHED-TTL:PT1H
BEGIN:VTIMEZONE
TZID:Europe/Copenhagen
BEGIN:DAYLIGHT
TZOFFSETFROM:+0100
TZOFFSETTO:+0200
TZNAME:CEST
DTSTART:20250330T010000
END:DAYLIGHT
BEGIN:STANDARD
TZOFFSETFROM:+0200
TZOFFSETTO:+0100
TZNAME:CET
DTSTART:20251026T010000
END:STANDARD
BEGIN:DAYLIGHT
TZOFFSETFROM:+0100
TZOFFSETTO:+0200
TZNAME:CEST
DTSTART:20260329T010000
END:DAYLIGHT
BEGIN:STANDARD
TZOFFSETFROM:+0200
TZOFFSETTO:+0100
TZNAME:CET
DTSTART:20261025T010000
END:STANDARD
BEGIN:DAYLIGHT
TZOFFSETFROM:+0100
TZOFFSETTO:+0200
TZNAME:CEST
DTSTART:20270328T010000
END:DAYLIGHT
BEGIN:STANDARD
TZOFFSETFROM:+0200
TZOFFSETTO:+0100
TZNAME:CET
DTSTART:20271031T010000
END:STANDARD
END:VTIMEZONE
BEGIN:VEVENT
DTSTART;TZID=Europe/Copenhagen:20260325T193000
DTEND;TZID=Europe/Copenhagen:20260325T220000
DTSTAMP:20260420T023652
CREATED:20260126T100021Z
LAST-MODIFIED:20260126T100021Z
UID:5352-1774467000-1774476000@xn--grnbjerg-64a.dk
SUMMARY:Kultur og Samvær- Grønbjerghjemmet – en del af lokalsamfundet.
DESCRIPTION:Julie og Heidi vil komme og fortælle om Grønbjerghjemmet\, som er et varigt botilbud inden for handicap og psykiatri i Ringkøbing-Skjern Kommune. De vil fortælle om deres arbejde som socialpædagoger på bostedet og give et indblik i\, hvordan dagligdagen i huset ser ud. Hvorfor er Grønbjerghjemmet unikt\, og hvorfor det er alfa og omega\, at det er placeret i hjertet af en lille by som Grønbjerg?
URL:https://xn--grnbjerg-64a.dk/event/kultur-og-samvaer-groenbjerghjemmet-en-del-af-lokalsamfundet/
LOCATION:Konfirmandstuen\, Frydendalsvej 2\, Grønbjerg\, 6971
END:VEVENT
END:VCALENDAR