BEGIN:VCALENDAR
VERSION:2.0
PRODID:-//Grønbjerg - ECPv6.15.17//NONSGML v1.0//EN
CALSCALE:GREGORIAN
METHOD:PUBLISH
X-WR-CALNAME:Grønbjerg
X-ORIGINAL-URL:https://xn--grnbjerg-64a.dk
X-WR-CALDESC:Begivenheder for Grønbjerg
REFRESH-INTERVAL;VALUE=DURATION:PT1H
X-Robots-Tag:noindex
X-PUBLISHED-TTL:PT1H
BEGIN:VTIMEZONE
TZID:Europe/Copenhagen
BEGIN:DAYLIGHT
TZOFFSETFROM:+0100
TZOFFSETTO:+0200
TZNAME:CEST
DTSTART:20250330T010000
END:DAYLIGHT
BEGIN:STANDARD
TZOFFSETFROM:+0200
TZOFFSETTO:+0100
TZNAME:CET
DTSTART:20251026T010000
END:STANDARD
BEGIN:DAYLIGHT
TZOFFSETFROM:+0100
TZOFFSETTO:+0200
TZNAME:CEST
DTSTART:20260329T010000
END:DAYLIGHT
BEGIN:STANDARD
TZOFFSETFROM:+0200
TZOFFSETTO:+0100
TZNAME:CET
DTSTART:20261025T010000
END:STANDARD
BEGIN:DAYLIGHT
TZOFFSETFROM:+0100
TZOFFSETTO:+0200
TZNAME:CEST
DTSTART:20270328T010000
END:DAYLIGHT
BEGIN:STANDARD
TZOFFSETFROM:+0200
TZOFFSETTO:+0100
TZNAME:CET
DTSTART:20271031T010000
END:STANDARD
END:VTIMEZONE
BEGIN:VEVENT
DTSTART;VALUE=DATE:20260321
DTEND;VALUE=DATE:20260322
DTSTAMP:20260420T004347
CREATED:20260126T095318Z
LAST-MODIFIED:20260126T095318Z
UID:5349-1774051200-1774137599@xn--grnbjerg-64a.dk
SUMMARY:Badminton turnering og Gaffa fest
DESCRIPTION:
URL:https://xn--grnbjerg-64a.dk/event/badminton-turnering-og-gaffa-fest/
LOCATION:Grønbjerg Friskole\, Algade 56\, Grønbjerg\, 6971
END:VEVENT
END:VCALENDAR