BEGIN:VCALENDAR
VERSION:2.0
PRODID:-//Grønbjerg - ECPv6.15.17//NONSGML v1.0//EN
CALSCALE:GREGORIAN
METHOD:PUBLISH
X-ORIGINAL-URL:https://xn--grnbjerg-64a.dk
X-WR-CALDESC:Begivenheder for Grønbjerg
REFRESH-INTERVAL;VALUE=DURATION:PT1H
X-Robots-Tag:noindex
X-PUBLISHED-TTL:PT1H
BEGIN:VTIMEZONE
TZID:Europe/Copenhagen
BEGIN:DAYLIGHT
TZOFFSETFROM:+0100
TZOFFSETTO:+0200
TZNAME:CEST
DTSTART:20250330T010000
END:DAYLIGHT
BEGIN:STANDARD
TZOFFSETFROM:+0200
TZOFFSETTO:+0100
TZNAME:CET
DTSTART:20251026T010000
END:STANDARD
BEGIN:DAYLIGHT
TZOFFSETFROM:+0100
TZOFFSETTO:+0200
TZNAME:CEST
DTSTART:20260329T010000
END:DAYLIGHT
BEGIN:STANDARD
TZOFFSETFROM:+0200
TZOFFSETTO:+0100
TZNAME:CET
DTSTART:20261025T010000
END:STANDARD
BEGIN:DAYLIGHT
TZOFFSETFROM:+0100
TZOFFSETTO:+0200
TZNAME:CEST
DTSTART:20270328T010000
END:DAYLIGHT
BEGIN:STANDARD
TZOFFSETFROM:+0200
TZOFFSETTO:+0100
TZNAME:CET
DTSTART:20271031T010000
END:STANDARD
END:VTIMEZONE
BEGIN:VEVENT
DTSTART;TZID=Europe/Copenhagen:20260128T190000
DTEND;TZID=Europe/Copenhagen:20260128T220000
DTSTAMP:20260420T042718
CREATED:20260126T092644Z
LAST-MODIFIED:20260126T093847Z
UID:5314-1769626800-1769637600@xn--grnbjerg-64a.dk
SUMMARY:Strikke Cafe
DESCRIPTION:Mødes kl: 19:00 i Konfirmandstuen på Frydendalsvej 2 \nNogle af deltagerne strikker engle og stjerner til kirkens juletræ.
URL:https://xn--grnbjerg-64a.dk/event/stikke-cafe/
LOCATION:Konfirmandstuen\, Frydendalsvej 2\, Grønbjerg\, 6971
END:VEVENT
END:VCALENDAR